BEGIN:VCALENDAR
VERSION:2.0
PRODID:-//nechildrensvision.org//NONSGML kigkonsult.se iCalcreator 2.30.10/
 /
CALSCALE:GREGORIAN
METHOD:PUBLISH
UID:f9237e10-102f-46ad-89bd-a8b77e79c492
X-WR-CALDESC:See To Learn® optometrists provide FREE vision assessments for
  any 3-year-old\, regardless of economic status. See to Learn assessments 
 check a broader range of visual skills and abilities than a typical pediat
 ric screening.\n\nGood vision is critical to learning. Yet\, young childre
 n often don’t realize they cannot see. And there are many problems that ca
 n't be detected by typical pediatric screenings. If problems go undetected
 \, visual development is often delayed or halted and learning is greatly c
 omplicated for a child that cannot see properly.
X-WR-RELCALID:3b59d0d315a5af501432b0c860395ad9
X-WR-TIMEZONE:America/Chicago
BEGIN:VTIMEZONE
TZID:America/Chicago
BEGIN:STANDARD
TZNAME:CST
DTSTART:20251102T020000
TZOFFSETFROM:-0500
TZOFFSETTO:-0600
RDATE:20261101T020000
END:STANDARD
BEGIN:DAYLIGHT
TZNAME:CDT
DTSTART:20260308T020000
TZOFFSETFROM:-0600
TZOFFSETTO:-0500
RDATE:20270314T020000
END:DAYLIGHT
END:VTIMEZONE
BEGIN:VEVENT
UID:bf95ce91-ef95-4feb-9941-3c81356f273d
DTSTAMP:20260423T130957Z
DESCRIPTION:See To Learn® optometrists provide FREE vision assessments for 
 any 3-year-old\, regardless of economic status. See to Learn assessments c
 heck a broader range of visual skills and abilities than a typical pediatr
 ic screening.\n\nGood vision is critical to learning. Yet\, young children
  often don’t realize they cannot see. And there are many problems that can
 't be detected by typical pediatric screenings. If problems go undetected\
 , visual development is often delayed or halted and learning is greatly co
 mplicated for a child that cannot see properly.
DTSTART;TZID=America/Chicago:20260501T050000
DTEND;TZID=America/Chicago:20260531T050001
LOCATION:
SUMMARY:May is See to Learn Month
END:VEVENT
END:VCALENDAR
