BEGIN:VCALENDAR
VERSION:2.0
PRODID:-//nechildrensvision.org//NONSGML kigkonsult.se iCalcreator 2.30.10/
 /
CALSCALE:GREGORIAN
METHOD:PUBLISH
UID:80c2ac3b-1458-49af-823c-b763f2b47d05
X-WR-CALDESC:Nebraska Foundation for Children's Vision will exhibit at the 
 NSNA Conference to connect with school nurses from across the state and ra
 ise awareness of children's vision resources.
X-WR-RELCALID:db721cfc721f2a9719e7931622fffa9e
X-WR-TIMEZONE:America/Chicago
BEGIN:VTIMEZONE
TZID:America/Chicago
BEGIN:STANDARD
TZNAME:CST
DTSTART:20251102T020000
TZOFFSETFROM:-0500
TZOFFSETTO:-0600
RDATE:20261101T020000
RDATE:20271107T020000
END:STANDARD
BEGIN:DAYLIGHT
TZNAME:CDT
DTSTART:20260308T020000
TZOFFSETFROM:-0600
TZOFFSETTO:-0500
RDATE:20270314T020000
END:DAYLIGHT
END:VTIMEZONE
BEGIN:VEVENT
UID:9f190d52-a708-4543-9045-4e53383a236d
DTSTAMP:20260423T130646Z
DESCRIPTION:Nebraska Foundation for Children's Vision will exhibit at the N
 SNA Conference to connect with school nurses from across the state and rai
 se awareness of children's vision resources.
DTSTART;TZID=America/Chicago:20260601T050000
DTEND;TZID=America/Chicago:20260601T050001
LOCATION:Westridge Middle School\, 4111 W 13th Street\, Grand Island\, NE 6
 8803 US
SUMMARY:Nebraska School Nurses Association School Health Conference
END:VEVENT
END:VCALENDAR
