BEGIN:VCALENDAR
VERSION:2.0
PRODID:-//nechildrensvision.org//NONSGML kigkonsult.se iCalcreator 2.30.10/
 /
CALSCALE:GREGORIAN
METHOD:PUBLISH
UID:14f994da-d11c-4c88-a21a-e884228e4d3c
X-WR-CALDESC:Nebraska Foundation for Children's Vision will exhibit at the 
 CNSNA Conference\, sponsored by the Central Nebraska School Nurses Associa
 tion in conjunction with Central Community College. This event is for scho
 ol nurses and anyone who helps students with health needs\, in or out of t
 he traditional school setting.
X-WR-RELCALID:06cf0f6f23480eb1220131fbab66477d
X-WR-TIMEZONE:America/Chicago
BEGIN:VTIMEZONE
TZID:America/Chicago
BEGIN:STANDARD
TZNAME:CST
DTSTART:20251102T020000
TZOFFSETFROM:-0500
TZOFFSETTO:-0600
RDATE:20261101T020000
RDATE:20271107T020000
END:STANDARD
BEGIN:DAYLIGHT
TZNAME:CDT
DTSTART:20260308T020000
TZOFFSETFROM:-0600
TZOFFSETTO:-0500
RDATE:20270314T020000
END:DAYLIGHT
END:VTIMEZONE
BEGIN:VEVENT
UID:7f1ea153-ae80-4faa-957b-d9a4870015fb
DTSTAMP:20260423T150021Z
DESCRIPTION:Nebraska Foundation for Children's Vision will exhibit at the C
 NSNA Conference\, sponsored by the Central Nebraska School Nurses Associat
 ion in conjunction with Central Community College. This event is for schoo
 l nurses and anyone who helps students with health needs\, in or out of th
 e traditional school setting.
DTSTART;TZID=America/Chicago:20260608T050000
DTEND;TZID=America/Chicago:20260609T050001
LOCATION:Holiday Inn\, 110 2nd Avenue\, Kearney\, NE 68847 US
SUMMARY:2026 Central Nebraska School Nurses Association School Health Confe
 rence
END:VEVENT
END:VCALENDAR
