BEGIN:VCALENDAR
VERSION:2.0
PRODID:-//nechildrensvision.org//NONSGML kigkonsult.se iCalcreator 2.30.10/
 /
CALSCALE:GREGORIAN
METHOD:PUBLISH
UID:bc503d60-e814-428a-814e-3afda1362c61
X-WR-CALDESC:
X-WR-RELCALID:d1fe9d93ae84acd35b9d9514f4a1f5ed
X-WR-TIMEZONE:America/Chicago
BEGIN:VTIMEZONE
TZID:America/Chicago
BEGIN:STANDARD
TZNAME:CST
DTSTART:20251102T020000
TZOFFSETFROM:-0500
TZOFFSETTO:-0600
RDATE:20261101T020000
RDATE:20271107T020000
END:STANDARD
BEGIN:DAYLIGHT
TZNAME:CDT
DTSTART:20260308T020000
TZOFFSETFROM:-0600
TZOFFSETTO:-0500
RDATE:20270314T020000
RDATE:20280312T020000
END:DAYLIGHT
END:VTIMEZONE
BEGIN:VEVENT
UID:666465d6-d69c-4b7f-8021-91a03c344a2c
DTSTAMP:20260423T130549Z
DESCRIPTION:
DTSTART;TZID=America/Chicago:20261001T050000
DTEND;TZID=America/Chicago:20261031T050001
LOCATION:
SUMMARY:October is Children's Vision Month
END:VEVENT
END:VCALENDAR
